BEGIN:VCALENDAR
VERSION:2.0
CALSCALE:GREGORIAN
PRODID:-//Diputació de Barcelona//DibaCMS//EN
BEGIN:VEVENT
UID:3519
DTSTAMP:20260422T134856
DTSTART:20190914T220000
DTEND:20190914T220000
SUMMARY:XV Cap de Setmana de la Joventut 2019 - Food Trucks - Concert - Ball per a Joves
LOCATION:Passeig de la Pau, s/n 08254 El Pont de Vilomara i Rocafort
METHOD:PUBLISH
X-WR-CALNAME:info.pont@elpont.cat
X-WR-TIMEZONE:Europe/Madrid
DESCRIPTION:L'hora és aproximada ja que començarà en finalitzar el recorregut del Corre-Tasques

URI:https://www.elpont.cat/actualitat/agenda/xv-cap-de-setmana-de-la-joventut-2019-food-trucks-concert-ball-per-a-joves.html
CLASS:PUBLIC
END:VEVENT
END:VCALENDAR
