BEGIN:VCALENDAR
VERSION:2.0
CALSCALE:GREGORIAN
PRODID:-//Diputació de Barcelona//DibaCMS//EN
BEGIN:VEVENT
UID:3520
DTSTAMP:20260422T173224
DTSTART:20190915T120000
DTEND:20190915T120000
SUMMARY:XV Cap de Setmana de la Joventut 2019 - Vermut musical
LOCATION:Esplanada de l'Ermita de Matadars 
METHOD:PUBLISH
X-WR-CALNAME:info.pont@elpont.cat
X-WR-TIMEZONE:Europe/Madrid
DESCRIPTION:L'acte més nou del programa.

Hi actuarà David Ros, participant dels concursos OT i La Voz.

URI:https://www.elpont.cat/actualitat/agenda/xv-cap-de-setmana-de-la-joventut-2019-vermut-musical.html
CLASS:PUBLIC
END:VEVENT
END:VCALENDAR
