BEGIN:VCALENDAR
VERSION:2.0
CALSCALE:GREGORIAN
PRODID:-//Diputació de Barcelona//DibaCMS//EN
BEGIN:VEVENT
UID:3521
DTSTAMP:20260422T145902
DTSTART:20190915T210000
DTEND:20190915T210000
SUMMARY:XV Cap de Setmana de la Joventut 2019 - Concert a la Fresca
LOCATION:Girona, s/n 08254 El Pont de Vilomara i Rocafort
METHOD:PUBLISH
X-WR-CALNAME:info.pont@elpont.cat
X-WR-TIMEZONE:Europe/Madrid
DESCRIPTION:Amb l'actuació de "El Quinto Carajillo"

URI:https://www.elpont.cat/actualitat/agenda/xv-cap-de-setmana-de-la-joventut-2019-concert-a-la-fresca.html
CLASS:PUBLIC
END:VEVENT
END:VCALENDAR
