BEGIN:VCALENDAR
VERSION:2.0
CALSCALE:GREGORIAN
PRODID:-//Diputació de Barcelona//DibaCMS//EN
BEGIN:VEVENT
UID:3522
DTSTAMP:20260423T012104
DTSTART:20190913T190000
DTEND:20190917T000000
SUMMARY:XV Cap de Setmana de la Joventut 2019 - Concurs de Fotografia
LOCATION:
METHOD:PUBLISH
X-WR-CALNAME:info.pont@elpont.cat
X-WR-TIMEZONE:Europe/Madrid
DESCRIPTION:Fes fotos del Cap de Setmana de la Joventut i penja-les a Instagram fins les 12 de la nit del dilluns 16 de setembre.

Per participar has de seguir-nos (@ajuntament.pont), etiquetar les teves fotos amb l’etiqueta #socdelPont i anomenar @ajuntament.pont.

La fotografia amb més “m’agrada” serà la guanyadora que es publicarà el divendres 20 de setembre.

El premi serà un sopar per a dues persones en qualsevol dels restaurants del municipi que triï el/guanyador/a.

URI:https://www.elpont.cat/actualitat/agenda/xv-cap-de-setmana-de-la-joventut-2019-concurs-de-fotografia.html
CLASS:PUBLIC
END:VEVENT
END:VCALENDAR
