BEGIN:VCALENDAR
VERSION:2.0
CALSCALE:GREGORIAN
PRODID:-//Diputació de Barcelona//DibaCMS//EN
BEGIN:VEVENT
UID:3523
DTSTAMP:20260423T000111
DTSTART:20190916T000000
DTEND:20190928T140000
SUMMARY:Exposició de maquetes de cartró
LOCATION:Sant Pere Regalat, 72, baixos 08254 El Pont de Vilomara i Rocafort
METHOD:PUBLISH
X-WR-CALNAME:info.pont@elpont.cat
X-WR-TIMEZONE:Europe/Madrid
DESCRIPTION:Podeu passar per la biblioteca a veure les noves maquetes de cartró fetes a mà pel vilomarenc Juan Leon.

URI:https://www.elpont.cat/actualitat/agenda/exposicio-de-maquetes-de-cartro.html
CLASS:PUBLIC
END:VEVENT
END:VCALENDAR
