BEGIN:VCALENDAR
VERSION:2.0
CALSCALE:GREGORIAN
PRODID:-//Diputació de Barcelona//DibaCMS//EN
BEGIN:VEVENT
UID:3524
DTSTAMP:20260422T172252
DTSTART:20190921T110000
DTEND:20190921T110000
SUMMARY:Taller de cuina familiar
LOCATION:Sant Pere Regalat, 72, baixos 08254 El Pont de Vilomara i Rocafort
METHOD:PUBLISH
X-WR-CALNAME:info.pont@elpont.cat
X-WR-TIMEZONE:Europe/Madrid
DESCRIPTION:Taller de cuina on grans i petits aprendrem a elaborar un menú complert de forma senzilla i divertida!! 

A càrrec del cuiner vilomarenc Miguel Ramos.

Nens i nenes majors de 6 anys acompanyats d'un adult

URI:https://www.elpont.cat/actualitat/agenda/taller-de-cuina-familiar.html
CLASS:PUBLIC
END:VEVENT
END:VCALENDAR
