BEGIN:VCALENDAR
VERSION:2.0
CALSCALE:GREGORIAN
PRODID:-//Diputació de Barcelona//DibaCMS//EN
BEGIN:VEVENT
UID:3525
DTSTAMP:20260423T000036
DTSTART:20190928T113000
DTEND:20190928T113000
SUMMARY:Hora del conte "Les disfresses encontades"
LOCATION:Sant Pere Regalat, 72, baixos 08254 El Pont de Vilomara i Rocafort
METHOD:PUBLISH
X-WR-CALNAME:info.pont@elpont.cat
X-WR-TIMEZONE:Europe/Madrid
DESCRIPTION:Quan era petita m’encantava disfressar-me.

URI:https://www.elpont.cat/actualitat/agenda/hora-del-conte-les-disfresses-encontades.html
CLASS:PUBLIC
END:VEVENT
END:VCALENDAR
