BEGIN:VCALENDAR
VERSION:2.0
CALSCALE:GREGORIAN
PRODID:-//Diputació de Barcelona//DibaCMS//EN
BEGIN:VEVENT
UID:3526
DTSTAMP:20260422T230511
DTSTART:20190918T180000
DTEND:20191001T200000
SUMMARY:Exposició de fotografies "Més enllà d'una mirada"
LOCATION:Sant Pere Regalat, 72, baixos 08254 El Pont de Vilomara i Rocafort
METHOD:PUBLISH
X-WR-CALNAME:info.pont@elpont.cat
X-WR-TIMEZONE:Europe/Madrid
DESCRIPTION:La inaguració tindrà lloc dimecres 18 de setembre a les 6 de la tarda.

URI:https://www.elpont.cat/actualitat/agenda/exposicio-de-fotografies-mes-enlla-duna-mirada.html
CLASS:PUBLIC
END:VEVENT
END:VCALENDAR
