BEGIN:VCALENDAR
VERSION:2.0
CALSCALE:GREGORIAN
PRODID:-//Diputació de Barcelona//DibaCMS//EN
BEGIN:VEVENT
UID:3530
DTSTAMP:20260422T101737
DTSTART:20190919T150000
DTEND:20190919T150000
SUMMARY:Reunió informativa sobre el nou curs al Casal El Molí
LOCATION: Santa Magdalena, 4 08254 El Pont de Vilomara i Rocafort
METHOD:PUBLISH
X-WR-CALNAME:info.pont@elpont.cat
X-WR-TIMEZONE:Europe/Madrid
DESCRIPTION:S'aproxima el nou curs al Casal "El Molí". Abans d'abar-hi cal que us mantingueu informats sobre les seves activitats, horaris, ....

Aneu a la reunió i allà us resoldran tots els vostres dubtes.

URI:https://www.elpont.cat/actualitat/agenda/reunio-informativa-sobre-el-nou-curs-al-casal-el-moli.html
CLASS:PUBLIC
END:VEVENT
END:VCALENDAR
