BEGIN:VCALENDAR
VERSION:2.0
CALSCALE:GREGORIAN
PRODID:-//Diputació de Barcelona//DibaCMS//EN
BEGIN:VEVENT
UID:3537
DTSTAMP:20260423T024457
DTSTART:20190924T093000
DTEND:20190924T120000
SUMMARY:Taller per ajudar-te a crear el teu propi currículum vitae
LOCATION:Mestre Saura, 5-B El Pont de Vilomara i Rocafort
METHOD:PUBLISH
X-WR-CALNAME:info.pont@elpont.cat
X-WR-TIMEZONE:Europe/Madrid
DESCRIPTION:Vine a la Casa de la Cultura i junts farem el teu currículum.

URI:https://www.elpont.cat/actualitat/agenda/taller-per-ajudar-te-a-crear-el-teu-propi-curriculum-vitae.html
CLASS:PUBLIC
END:VEVENT
END:VCALENDAR
