BEGIN:VCALENDAR
VERSION:2.0
CALSCALE:GREGORIAN
PRODID:-//Diputació de Barcelona//DibaCMS//EN
BEGIN:VEVENT
UID:3538
DTSTAMP:20260422T150611
DTSTART:20191019T093000
DTEND:20191019T093000
SUMMARY:Ruta entre vinyes - maridatge literatura i vi
LOCATION:Plaça Margarida 08254 El Pont de Vilomara i Rocafort
METHOD:PUBLISH
X-WR-CALNAME:info.pont@elpont.cat
X-WR-TIMEZONE:Europe/Madrid
DESCRIPTION:Descobreix l’Heretat Oller del Mas en una ruta a peu i gaudeix de la seva riquesa patrimonial, geològica, literària i gastronòmica! Visita guiada entre les vinyes (5 km), lectura de fragments de novel•les ambientades en el món vitivinícola i tast de vins i productes locals

URI:https://www.elpont.cat/actualitat/agenda/ruta-entre-vinyes-maridatge-literatura-i-vi.html
CLASS:PUBLIC
END:VEVENT
END:VCALENDAR
