BEGIN:VCALENDAR
VERSION:2.0
CALSCALE:GREGORIAN
PRODID:-//Diputació de Barcelona//DibaCMS//EN
BEGIN:VEVENT
UID:3540
DTSTAMP:20260422T031830
DTSTART:20200720T000000
DTEND:20200720T000000
SUMMARY:Festiu local
LOCATION:
METHOD:PUBLISH
X-WR-CALNAME:info.pont@elpont.cat
X-WR-TIMEZONE:Europe/Madrid
DESCRIPTION:
URI:https://www.elpont.cat/actualitat/agenda/3540-festiu-local.html
CLASS:PUBLIC
END:VEVENT
END:VCALENDAR
