BEGIN:VCALENDAR
VERSION:2.0
CALSCALE:GREGORIAN
PRODID:-//Diputació de Barcelona//DibaCMS//EN
BEGIN:VEVENT
UID:3543
DTSTAMP:20260423T073433
DTSTART:20190929T103000
DTEND:20190929T103000
SUMMARY:Caminada solidaria del Refugi el Tuc
LOCATION:Refugi el Tuc 
METHOD:PUBLISH
X-WR-CALNAME:info.pont@elpont.cat
X-WR-TIMEZONE:Europe/Madrid
DESCRIPTION:Caminada solidaria a favor dels refugiats de Murcia y València a causa de les riuades de la gota freda.

URI:https://www.elpont.cat/actualitat/agenda/caminada-solidaria-del-refugi-el-tuc.html
CLASS:PUBLIC
END:VEVENT
END:VCALENDAR
