BEGIN:VCALENDAR
VERSION:2.0
CALSCALE:GREGORIAN
PRODID:-//Diputació de Barcelona//DibaCMS//EN
BEGIN:VEVENT
UID:3545
DTSTAMP:20260422T173418
DTSTART:20191030T190000
DTEND:20191030T190000
SUMMARY:Xerrada amb Laia Díez "Els secrets del Trail Running"
LOCATION:Sant Pere Regalat, 72, baixos 08254 El Pont de Vilomara i Rocafort
METHOD:PUBLISH
X-WR-CALNAME:info.pont@elpont.cat
X-WR-TIMEZONE:Europe/Madrid
DESCRIPTION:Llicenciada en Ciències de l’Activitat Física i l’Esport, Postgrau en Preparació Física de l’Esport Col.lectiu al FC Barcelona i quiromassatgista.

URI:https://www.elpont.cat/actualitat/agenda/xerrada-amb-laia-diez-els-secrets-del-trail-running.html
CLASS:PUBLIC
END:VEVENT
END:VCALENDAR
