BEGIN:VCALENDAR
VERSION:2.0
CALSCALE:GREGORIAN
PRODID:-//Diputació de Barcelona//DibaCMS//EN
BEGIN:VEVENT
UID:3546
DTSTAMP:20260423T053528
DTSTART:20191014T151500
DTEND:20191014T151500
SUMMARY:Zumba Fitness a la Sala Polivalent del Pont de Vilomara i Rocafort
LOCATION:Sant Jeroni, 12-14  08254 El Pont de Vilomara i Rocafort
METHOD:PUBLISH
X-WR-CALNAME:info.pont@elpont.cat
X-WR-TIMEZONE:Europe/Madrid
DESCRIPTION:Vine a ballar Zumba amb les noves monitores, la diversió està assegurada!

URI:https://www.elpont.cat/actualitat/agenda/zumba-fitness-a-la-sala-polivalent-del-pont-de-vilomara-i-rocafort.html
CLASS:PUBLIC
END:VEVENT
END:VCALENDAR
