BEGIN:VCALENDAR
VERSION:2.0
CALSCALE:GREGORIAN
PRODID:-//Diputació de Barcelona//DibaCMS//EN
BEGIN:VEVENT
UID:3548
DTSTAMP:20260422T173641
DTSTART:20190930T000000
DTEND:20191008T000000
SUMMARY:Revisió del cens electoral per a les properes eleccions generals del 10 de novembre de 2019
LOCATION:
METHOD:PUBLISH
X-WR-CALNAME:info.pont@elpont.cat
X-WR-TIMEZONE:Europe/Madrid
DESCRIPTION:Durant aquesta setmana es podrà consultar i rectificar el cens electoral de les properes eleccions generals.

URI:https://www.elpont.cat/actualitat/agenda/3548-revisio-del-cens-electoral-per-a-les-properes-eleccions-generals-del-10-de-novembre-de-2019.html
CLASS:PUBLIC
END:VEVENT
END:VCALENDAR
