BEGIN:VCALENDAR
VERSION:2.0
CALSCALE:GREGORIAN
PRODID:-//Diputació de Barcelona//DibaCMS//EN
BEGIN:VEVENT
UID:3549
DTSTAMP:20260422T132605
DTSTART:20191110T090000
DTEND:20191110T200000
SUMMARY:Eleccions Generals 2019
LOCATION:Sant Pere Regalat, 18-28 08254 El Pont de Vilomara i Rocafort
METHOD:PUBLISH
X-WR-CALNAME:info.pont@elpont.cat
X-WR-TIMEZONE:Europe/Madrid
DESCRIPTION:
URI:https://www.elpont.cat/actualitat/agenda/eleccions-generals-2019.html
CLASS:PUBLIC
END:VEVENT
END:VCALENDAR
