BEGIN:VCALENDAR
VERSION:2.0
CALSCALE:GREGORIAN
PRODID:-//Diputació de Barcelona//DibaCMS//EN
BEGIN:VEVENT
UID:3550
DTSTAMP:20260423T052936
DTSTART:20191001T190000
DTEND:20191001T190000
SUMMARY:Reunió informativa cursos d'anglès per a adults i tots els nivells
LOCATION:Mestre Saura, 5-B El Pont de Vilomara i Rocafort
METHOD:PUBLISH
X-WR-CALNAME:info.pont@elpont.cat
X-WR-TIMEZONE:Europe/Madrid
DESCRIPTION:No saps si fer anglès aquest any?

URI:https://www.elpont.cat/actualitat/agenda/reunio-informativa-cursos-dangles-per-a-adults-itots-els-nivells.html
CLASS:PUBLIC
END:VEVENT
END:VCALENDAR
