BEGIN:VCALENDAR
VERSION:2.0
CALSCALE:GREGORIAN
PRODID:-//Diputació de Barcelona//DibaCMS//EN
BEGIN:VEVENT
UID:3551
DTSTAMP:20260423T012527
DTSTART:20191004T150000
DTEND:20191004T150000
SUMMARY:Tertúlia literària sobre la novel·la "Hija de la fortuna" d'Isabel Allende
LOCATION:
METHOD:PUBLISH
X-WR-CALNAME:info.pont@elpont.cat
X-WR-TIMEZONE:Europe/Madrid
DESCRIPTION:
URI:https://www.elpont.cat/actualitat/agenda/tertulia-literaria-sobre-la-novella-hija-de-la-fortuna-disabel-allende.html
CLASS:PUBLIC
END:VEVENT
END:VCALENDAR
