BEGIN:VCALENDAR
VERSION:2.0
CALSCALE:GREGORIAN
PRODID:-//Diputació de Barcelona//DibaCMS//EN
BEGIN:VEVENT
UID:3553
DTSTAMP:20260422T114659
DTSTART:20191020T090000
DTEND:20191020T090000
SUMMARY:Caminem contra el càncer de mama
LOCATION:Sortida des de la Plaça de l'Ajuntament 
METHOD:PUBLISH
X-WR-CALNAME:info.pont@elpont.cat
X-WR-TIMEZONE:Europe/Madrid
DESCRIPTION:La Junta Local Contra el Càncer organitza una caminada per recaptar fons per la lluita contra el càncer de mama.

URI:https://www.elpont.cat/actualitat/agenda/caminem-contra-el-cancer-de-mama.html
CLASS:PUBLIC
END:VEVENT
END:VCALENDAR
