BEGIN:VCALENDAR
VERSION:2.0
CALSCALE:GREGORIAN
PRODID:-//Diputació de Barcelona//DibaCMS//EN
BEGIN:VEVENT
UID:3554
DTSTAMP:20260423T061216
DTSTART:20191010T190000
DTEND:20191010T190000
SUMMARY:Xerrada: la salut mental, què en saps?
LOCATION:Sant Pere Regalat, 72, baixos 08254 El Pont de Vilomara i Rocafort
METHOD:PUBLISH
X-WR-CALNAME:info.pont@elpont.cat
X-WR-TIMEZONE:Europe/Madrid
DESCRIPTION:Es poden prevenir les malalties de salut mental?

Hi ha nous tractaments contra aquest tipus de malalties??

URI:https://www.elpont.cat/actualitat/agenda/xerrada-la-salut-mental-que-en-saps.html
CLASS:PUBLIC
END:VEVENT
END:VCALENDAR
