BEGIN:VCALENDAR
VERSION:2.0
CALSCALE:GREGORIAN
PRODID:-//Diputació de Barcelona//DibaCMS//EN
BEGIN:VEVENT
UID:3555
DTSTAMP:20260422T132312
DTSTART:20191023T183000
DTEND:20191023T183000
SUMMARY:Conferència: Com podem prevenir el càncer?
LOCATION:Sant Pere Regalat, 72, baixos 08254 El Pont de Vilomara i Rocafort
METHOD:PUBLISH
X-WR-CALNAME:info.pont@elpont.cat
X-WR-TIMEZONE:Europe/Madrid
DESCRIPTION:A càrrec de Mònica Granados, psicòloga de prevenció de l'AECC.

URI:https://www.elpont.cat/actualitat/agenda/conferencia-com-podem-prevenir-el-cancer.html
CLASS:PUBLIC
END:VEVENT
END:VCALENDAR
