BEGIN:VCALENDAR
VERSION:2.0
CALSCALE:GREGORIAN
PRODID:-//Diputació de Barcelona//DibaCMS//EN
BEGIN:VEVENT
UID:3556
DTSTAMP:20260422T144140
DTSTART:20191014T160000
DTEND:20191107T200000
SUMMARY:Exposició "Ocellam"
LOCATION:Sant Pere Regalat, 72, baixos 08254 El Pont de Vilomara i Rocafort
METHOD:PUBLISH
X-WR-CALNAME:info.pont@elpont.cat
X-WR-TIMEZONE:Europe/Madrid
DESCRIPTION:Exposició itinerant de la Diputació de Barcelona que fa un homenatge literari als ocells.

URI:https://www.elpont.cat/actualitat/agenda/exposicio-ocellam.html
CLASS:PUBLIC
END:VEVENT
END:VCALENDAR
