BEGIN:VCALENDAR
VERSION:2.0
CALSCALE:GREGORIAN
PRODID:-//Diputació de Barcelona//DibaCMS//EN
BEGIN:VEVENT
UID:3557
DTSTAMP:20260422T114041
DTSTART:20191026T110000
DTEND:20191026T110000
SUMMARY:Activitat infantil sobre els ocells amb contes i manualitats
LOCATION:Sant Pere Regalat, 72, baixos 08254 El Pont de Vilomara i Rocafort
METHOD:PUBLISH
X-WR-CALNAME:info.pont@elpont.cat
X-WR-TIMEZONE:Europe/Madrid
DESCRIPTION:Acte relacionat amb l'exposició "Ocellam"

URI:https://www.elpont.cat/actualitat/agenda/activitat-infantil-sobre-els-ocells-amb-contes-i-manualitats.html
CLASS:PUBLIC
END:VEVENT
END:VCALENDAR
