BEGIN:VCALENDAR
VERSION:2.0
CALSCALE:GREGORIAN
PRODID:-//Diputació de Barcelona//DibaCMS//EN
BEGIN:VEVENT
UID:3558
DTSTAMP:20260422T234557
DTSTART:20191014T194500
DTEND:20191014T203000
SUMMARY:Enjoy the chat: grups de conversa en anglès
LOCATION:Sant Pere Regalat, 72, baixos 08254 El Pont de Vilomara i Rocafort
METHOD:PUBLISH
X-WR-CALNAME:info.pont@elpont.cat
X-WR-TIMEZONE:Europe/Madrid
DESCRIPTION:Trobades quinzenals per a joves i adults a la Biblioteca per practicar conversa en anglès, el grup està conduït per Alba Santamaria.

URI:https://www.elpont.cat/actualitat/agenda/enjoy-the-chat-grups-de-conversa-en-angles.html
CLASS:PUBLIC
END:VEVENT
END:VCALENDAR
