BEGIN:VCALENDAR
VERSION:2.0
CALSCALE:GREGORIAN
PRODID:-//Diputació de Barcelona//DibaCMS//EN
BEGIN:VEVENT
UID:3559
DTSTAMP:20260423T035228
DTSTART:20191017T163000
DTEND:20191017T163000
SUMMARY:Programa gent gran activa "Ball amb Jordi Caselles"
LOCATION:Plaça Margarida, s/n. 08254 El Pont de Vilomara i Rocafort
METHOD:PUBLISH
X-WR-CALNAME:info.pont@elpont.cat
X-WR-TIMEZONE:Europe/Madrid
DESCRIPTION:Ball amb Jordi Caselles

URI:https://www.elpont.cat/actualitat/agenda/3559-programa-gent-gran-activa-ball-amb-jordi-caselles.html
CLASS:PUBLIC
END:VEVENT
END:VCALENDAR
