BEGIN:VCALENDAR
VERSION:2.0
CALSCALE:GREGORIAN
PRODID:-//Diputació de Barcelona//DibaCMS//EN
BEGIN:VEVENT
UID:3563
DTSTAMP:20260422T111624
DTSTART:20191018T150000
DTEND:20191018T150000
SUMMARY:Taller de decoració floral
LOCATION:Sant Pere Regalat, 72, baixos 08254 El Pont de Vilomara i Rocafort
METHOD:PUBLISH
X-WR-CALNAME:info.pont@elpont.cat
X-WR-TIMEZONE:Europe/Madrid
DESCRIPTION:Taller creatiu adreçat al públic jove i adult a càrrec d'Anna Grau.

URI:https://www.elpont.cat/actualitat/agenda/taller-de-decoracio-floral.html
CLASS:PUBLIC
END:VEVENT
END:VCALENDAR
