BEGIN:VCALENDAR
VERSION:2.0
CALSCALE:GREGORIAN
PRODID:-//Diputació de Barcelona//DibaCMS//EN
BEGIN:VEVENT
UID:3570
DTSTAMP:20260422T102320
DTSTART:20191109T110000
DTEND:20191109T110000
SUMMARY:Bibliolab "Química i salut: Fem pasta de dents"
LOCATION:Sant Pere Regalat, 72, baixos 08254 El Pont de Vilomara i Rocafort
METHOD:PUBLISH
X-WR-CALNAME:info.pont@elpont.cat
X-WR-TIMEZONE:Europe/Madrid
DESCRIPTION:La ciència ens descobreix com fer a casa un dentifrici casolà que ja utilitzaven els nostres avis i ens emportarem un fet per nosaltres.

Fem-ne una mica i triem color, olor i gust.

Adreçat a nens i nens a partir de 5 anys

URI:https://www.elpont.cat/actualitat/agenda/bibliolab-quimica-i-salut-fem-pasta-de-dents.html
CLASS:PUBLIC
END:VEVENT
END:VCALENDAR
