BEGIN:VCALENDAR
VERSION:2.0
CALSCALE:GREGORIAN
PRODID:-//Diputació de Barcelona//DibaCMS//EN
BEGIN:VEVENT
UID:3571
DTSTAMP:20260422T111152
DTSTART:20191107T180000
DTEND:20191130T180000
SUMMARY:Exposició de pintures "RISUKUS" 
LOCATION:Sant Pere Regalat, 72, baixos 08254 El Pont de Vilomara i Rocafort
METHOD:PUBLISH
X-WR-CALNAME:info.pont@elpont.cat
X-WR-TIMEZONE:Europe/Madrid
DESCRIPTION:Risukus és una exposició de pintures de l'artista vilomarenca Maribel Risquete que aplega retrats en clau de dona on es fusionen aspectes pictòrics, de disseny de roba artesanal, dels complements fets a mà i el gust per la fotografia.

URI:https://www.elpont.cat/actualitat/agenda/exposicio-de-pintures-risukus-.html
CLASS:PUBLIC
END:VEVENT
END:VCALENDAR
