BEGIN:VCALENDAR
VERSION:2.0
CALSCALE:GREGORIAN
PRODID:-//Diputació de Barcelona//DibaCMS//EN
BEGIN:VEVENT
UID:3572
DTSTAMP:20260422T114459
DTSTART:20191108T150000
DTEND:20191108T150000
SUMMARY:Tertúlia literària sobre la novel•la "Persecusió" amb la presència del seu autor Toni Sala
LOCATION:Sant Pere Regalat, 72, baixos 08254 El Pont de Vilomara i Rocafort
METHOD:PUBLISH
X-WR-CALNAME:info.pont@elpont.cat
X-WR-TIMEZONE:Europe/Madrid
DESCRIPTION:
URI:https://www.elpont.cat/actualitat/agenda/tertulia-literaria-sobre-la-novella-persecusio-amb-la-presencia-del-seu-autor-toni-sala.html
CLASS:PUBLIC
END:VEVENT
END:VCALENDAR
