BEGIN:VCALENDAR
VERSION:2.0
CALSCALE:GREGORIAN
PRODID:-//Diputació de Barcelona//DibaCMS//EN
BEGIN:VEVENT
UID:3574
DTSTAMP:20260422T150015
DTSTART:20191123T113000
DTEND:20191123T113000
SUMMARY:L'hora del conte "En Bum i el llibre màgic de les fades"
LOCATION:Sant Pere Regalat, 72, baixos 08254 El Pont de Vilomara i Rocafort
METHOD:PUBLISH
X-WR-CALNAME:info.pont@elpont.cat
X-WR-TIMEZONE:Europe/Madrid
DESCRIPTION:Una tarda de pluja en Bum escolta la Història de la Biblioteca Màgica de les Fades i del Llibre Màgic de la fada Flor de Neu va amagar en un lloc secret.

Decidirà sortir a buscar-lo, el trobarà?

URI:https://www.elpont.cat/actualitat/agenda/lhora-del-conte-en-bum-i-el-llibre-magic-de-les-fades.html
CLASS:PUBLIC
END:VEVENT
END:VCALENDAR
