BEGIN:VCALENDAR
VERSION:2.0
CALSCALE:GREGORIAN
PRODID:-//Diputació de Barcelona//DibaCMS//EN
BEGIN:VEVENT
UID:3575
DTSTAMP:20260422T090521
DTSTART:20191130T000000
DTEND:20191221T000000
SUMMARY:Exposició de ceràmiques "Contrast"
LOCATION:Sant Pere Regalat, 72, baixos 08254 El Pont de Vilomara i Rocafort
METHOD:PUBLISH
X-WR-CALNAME:info.pont@elpont.cat
X-WR-TIMEZONE:Europe/Madrid
DESCRIPTION:Exposició de peces de ceràmica fetes a mà per la ceramista rocafortina Maria Torruella. 

La inauguració tindrà lloc dissabte 30 de novembre a les 12 del migdia.

Divendres 13 de desembre a les 3 de la tarda: taller d'introducció a la ceràmica a càrrec de Maria Torruell, dirigit a joves i adults, places limitades, cal inscripció prèvia.

URI:https://www.elpont.cat/actualitat/agenda/exposicio-de-ceramiques-contrast.html
CLASS:PUBLIC
END:VEVENT
END:VCALENDAR
