BEGIN:VCALENDAR
VERSION:2.0
CALSCALE:GREGORIAN
PRODID:-//Diputació de Barcelona//DibaCMS//EN
BEGIN:VEVENT
UID:3577
DTSTAMP:20260422T234643
DTSTART:20191117T100000
DTEND:20191117T100000
SUMMARY:Jornada de voluntariat per netejar el bosc
LOCATION:Lloc de trobada a la Plaça de l'Ajuntament 
METHOD:PUBLISH
X-WR-CALNAME:info.pont@elpont.cat
X-WR-TIMEZONE:Europe/Madrid
DESCRIPTION:Netegem l'entorn del nostre poble.

URI:https://www.elpont.cat/actualitat/agenda/jornada-de-voluntariat-per-netejar-el-bosc.html
CLASS:PUBLIC
END:VEVENT
END:VCALENDAR
