BEGIN:VCALENDAR
VERSION:2.0
CALSCALE:GREGORIAN
PRODID:-//Diputació de Barcelona//DibaCMS//EN
BEGIN:VEVENT
UID:3580
DTSTAMP:20260422T144325
DTSTART:20191118T200000
DTEND:20191118T200000
SUMMARY:Ple ordinari per al dilluns 18 de novembre de 2019
LOCATION:Plaça de l'Ajuntament, 1 08254 El Pont de Vilomara i Rocafort
METHOD:PUBLISH
X-WR-CALNAME:info.pont@elpont.cat
X-WR-TIMEZONE:Europe/Madrid
DESCRIPTION:
URI:https://www.elpont.cat/actualitat/agenda/ple-ordinari-per-al-dilluns-18-de-novembre-de-2019.html
CLASS:PUBLIC
END:VEVENT
END:VCALENDAR
