BEGIN:VCALENDAR
VERSION:2.0
CALSCALE:GREGORIAN
PRODID:-//Diputació de Barcelona//DibaCMS//EN
BEGIN:VEVENT
UID:3585
DTSTAMP:20260422T175919
DTSTART:20191120T170000
DTEND:20191120T170000
SUMMARY:Cap de setmana de la infància 2019 - Concurs de dibuix amb motiu del dia dels drets dels infants
LOCATION: Santa Magdalena, 4 08254 El Pont de Vilomara i Rocafort
METHOD:PUBLISH
X-WR-CALNAME:info.pont@elpont.cat
X-WR-TIMEZONE:Europe/Madrid
DESCRIPTION:
URI:https://www.elpont.cat/actualitat/agenda/cap-de-setmana-de-la-infancia-2019-concurs-de-dibuix-amb-motiu-del-dia-dels-drets-dels-infants.html
CLASS:PUBLIC
END:VEVENT
END:VCALENDAR
