BEGIN:VCALENDAR
VERSION:2.0
CALSCALE:GREGORIAN
PRODID:-//Diputació de Barcelona//DibaCMS//EN
BEGIN:VEVENT
UID:3586
DTSTAMP:20260422T131652
DTSTART:20191122T170000
DTEND:20191122T170000
SUMMARY:Cap de setmana de la infància 2019 - Berenar per a tots els infants
LOCATION:Passeig de la Pau, s/n 08254 El Pont de Vilomara i Rocafort
METHOD:PUBLISH
X-WR-CALNAME:info.pont@elpont.cat
X-WR-TIMEZONE:Europe/Madrid
DESCRIPTION:
URI:https://www.elpont.cat/actualitat/agenda/cap-de-setmana-de-la-infancia-2019-berenar-per-a-tots-els-infants.html
CLASS:PUBLIC
END:VEVENT
END:VCALENDAR
