BEGIN:VCALENDAR
VERSION:2.0
CALSCALE:GREGORIAN
PRODID:-//Diputació de Barcelona//DibaCMS//EN
BEGIN:VEVENT
UID:3587
DTSTAMP:20260422T102049
DTSTART:20191122T183000
DTEND:20191122T183000
SUMMARY:Cap de setmana de la infància 2019 - Animació infantil a càrrec dels “Súper Tomàcats”. Música, globus gegants, súper poders i tempestes de confeti
LOCATION:Passeig de la Pau, s/n 08254 El Pont de Vilomara i Rocafort
METHOD:PUBLISH
X-WR-CALNAME:info.pont@elpont.cat
X-WR-TIMEZONE:Europe/Madrid
DESCRIPTION:L'horari és aproximat ja que es farà seguidament del berenar.

URI:https://www.elpont.cat/actualitat/agenda/cap-de-setmana-de-la-infancia-2019-animacio-infantil-a-carrec-dels-super-tomacats-musica-globus-gegants-super-poders-i-tempestes-de-confeti.html
CLASS:PUBLIC
END:VEVENT
END:VCALENDAR
