BEGIN:VCALENDAR
VERSION:2.0
CALSCALE:GREGORIAN
PRODID:-//Diputació de Barcelona//DibaCMS//EN
BEGIN:VEVENT
UID:3588
DTSTAMP:20260422T101839
DTSTART:20191123T110000
DTEND:20191123T110000
SUMMARY:Cap de setmana de la infància 2019 - L'hora del conte amb la "Companyia Homenots"
LOCATION:Sant Pere Regalat, 72, baixos 08254 El Pont de Vilomara i Rocafort
METHOD:PUBLISH
X-WR-CALNAME:info.pont@elpont.cat
X-WR-TIMEZONE:Europe/Madrid
DESCRIPTION:
URI:https://www.elpont.cat/actualitat/agenda/cap-de-setmana-de-la-infancia-2019-lhora-del-conte-amb-la-companyia-homenots.html
CLASS:PUBLIC
END:VEVENT
END:VCALENDAR
