BEGIN:VCALENDAR
VERSION:2.0
CALSCALE:GREGORIAN
PRODID:-//Diputació de Barcelona//DibaCMS//EN
BEGIN:VEVENT
UID:3589
DTSTAMP:20260422T134448
DTSTART:20191123T163000
DTEND:20191123T163000
SUMMARY:Cap de setmana de la infància 2019 - Cercavila pel poble amb els gegants
LOCATION:Sortida des de la Plaça de l'Ajuntament 
METHOD:PUBLISH
X-WR-CALNAME:info.pont@elpont.cat
X-WR-TIMEZONE:Europe/Madrid
DESCRIPTION:
URI:https://www.elpont.cat/actualitat/agenda/cap-de-setmana-de-la-infancia-2019-cercavila-pel-poble-amb-els-gegants.html
CLASS:PUBLIC
END:VEVENT
END:VCALENDAR
