BEGIN:VCALENDAR
VERSION:2.0
CALSCALE:GREGORIAN
PRODID:-//Diputació de Barcelona//DibaCMS//EN
BEGIN:VEVENT
UID:3590
DTSTAMP:20260422T114346
DTSTART:20191123T170000
DTEND:20191123T170000
SUMMARY:Cap de setmana de la infància 2019 - Presentació del Consell d'Infants - Benvinguda nadons 2019
LOCATION:Sant Pere Regalat, 18-28 08254 El Pont de Vilomara i Rocafort
METHOD:PUBLISH
X-WR-CALNAME:info.pont@elpont.cat
X-WR-TIMEZONE:Europe/Madrid
DESCRIPTION:
URI:https://www.elpont.cat/actualitat/agenda/cap-de-setmana-de-la-infancia-2019-presentacio-del-consell-dinfants-benvinguda-nadons-2019.html
CLASS:PUBLIC
END:VEVENT
END:VCALENDAR
