BEGIN:VCALENDAR
VERSION:2.0
CALSCALE:GREGORIAN
PRODID:-//Diputació de Barcelona//DibaCMS//EN
BEGIN:VEVENT
UID:3591
DTSTAMP:20260422T102436
DTSTART:20191123T183000
DTEND:20191123T183000
SUMMARY:Cap de setmana de la infància 2019 - Jocs gegants, maquillatge infantil… i moltes sorpreses mes !!!!
LOCATION:Sant Pere Regalat, 18-28 08254 El Pont de Vilomara i Rocafort
METHOD:PUBLISH
X-WR-CALNAME:info.pont@elpont.cat
X-WR-TIMEZONE:Europe/Madrid
DESCRIPTION:L'horari és aproximat ja que es farà seguidament de l'acte de presentació del Consell d'Infants i de la Benvinguda als nadons 2019.

URI:https://www.elpont.cat/actualitat/agenda/cap-de-setmana-de-la-infancia-2019-jocs-gegants-maquillatge-infantil-i-moltes-sorpreses-mes-.html
CLASS:PUBLIC
END:VEVENT
END:VCALENDAR
