BEGIN:VCALENDAR
VERSION:2.0
CALSCALE:GREGORIAN
PRODID:-//Diputació de Barcelona//DibaCMS//EN
BEGIN:VEVENT
UID:3592
DTSTAMP:20260422T184523
DTSTART:20191124T110000
DTEND:20191124T110000
SUMMARY:Cap de setmana de la infància 2019 - Pedalada en família
LOCATION:Pels voltants del poble 
METHOD:PUBLISH
X-WR-CALNAME:info.pont@elpont.cat
X-WR-TIMEZONE:Europe/Madrid
DESCRIPTION:
URI:https://www.elpont.cat/actualitat/agenda/cap-de-setmana-de-la-infancia-2019-pedalada-en-familia.html
CLASS:PUBLIC
END:VEVENT
END:VCALENDAR
