BEGIN:VCALENDAR
VERSION:2.0
CALSCALE:GREGORIAN
PRODID:-//Diputació de Barcelona//DibaCMS//EN
BEGIN:VEVENT
UID:3593
DTSTAMP:20260422T075322
DTSTART:20191124T163000
DTEND:20191124T163000
SUMMARY:Cap de setmana de la infància 2019 - Skate class. Vine a patinar i aprèn moltes coses noves
LOCATION:Skate Park del Passeig de la Pau 
METHOD:PUBLISH
X-WR-CALNAME:info.pont@elpont.cat
X-WR-TIMEZONE:Europe/Madrid
DESCRIPTION:
URI:https://www.elpont.cat/actualitat/agenda/cap-de-setmana-de-la-infancia-2019-skate-class-vine-a-patinar-i-apren-moltes-coses-noves.html
CLASS:PUBLIC
END:VEVENT
END:VCALENDAR
