BEGIN:VCALENDAR
VERSION:2.0
CALSCALE:GREGORIAN
PRODID:-//Diputació de Barcelona//DibaCMS//EN
BEGIN:VEVENT
UID:3596
DTSTAMP:20260422T115016
DTSTART:20191127T160000
DTEND:20191127T180000
SUMMARY:Taller de sexualitat per a adolescents
LOCATION: Santa Magdalena, 4 08254 El Pont de Vilomara i Rocafort
METHOD:PUBLISH
X-WR-CALNAME:info.pont@elpont.cat
X-WR-TIMEZONE:Europe/Madrid
DESCRIPTION:Dirigit a joves de 12 a 18 anys per tal que pogueu resoldre dubtes, trencar els tabús al voltant de la sexualitat i generar un espai on parlar-ne obertament.

URI:https://www.elpont.cat/actualitat/agenda/taller-de-sexualitat-per-a-adolescents.html
CLASS:PUBLIC
END:VEVENT
END:VCALENDAR
