BEGIN:VCALENDAR
VERSION:2.0
CALSCALE:GREGORIAN
PRODID:-//Diputació de Barcelona//DibaCMS//EN
BEGIN:VEVENT
UID:3599
DTSTAMP:20260422T090352
DTSTART:20191125T190000
DTEND:20191125T190000
SUMMARY:Dia Internacional per a l'eliminació de la Violència envers les Dones - Acte i lectura del Manifest Institucional del dia Internacional per a l'eliminació de la violència contra les dones.
LOCATION:Mestre Saura, 5-B El Pont de Vilomara i Rocafort
METHOD:PUBLISH
X-WR-CALNAME:info.pont@elpont.cat
X-WR-TIMEZONE:Europe/Madrid
DESCRIPTION:
URI:https://www.elpont.cat/actualitat/agenda/dia-internacional-per-a-leliminacio-de-la-violencia-envers-les-dones-acte-i-lectura-del-manifest-institucional-del-dia-internacional-per-a-leliminacio-de-la-violencia-contra-les-dones.html
CLASS:PUBLIC
END:VEVENT
END:VCALENDAR
