BEGIN:VCALENDAR
VERSION:2.0
CALSCALE:GREGORIAN
PRODID:-//Diputació de Barcelona//DibaCMS//EN
BEGIN:VEVENT
UID:3600
DTSTAMP:20260422T114229
DTSTART:20191125T200000
DTEND:20191125T200000
SUMMARY:Dia Internacional per a l'eliminació de la Violència envers les Dones -  Espectacle "Histèries Uterines"
LOCATION:Mestre Saura, 5-B El Pont de Vilomara i Rocafort
METHOD:PUBLISH
X-WR-CALNAME:info.pont@elpont.cat
X-WR-TIMEZONE:Europe/Madrid
DESCRIPTION:A càrrec de Xavi Demelo i de Marcelo Arnal al piano.

URI:https://www.elpont.cat/actualitat/agenda/dia-internacional-per-a-leliminacio-de-la-violencia-envers-les-dones-espectacle-histeries-uterines.html
CLASS:PUBLIC
END:VEVENT
END:VCALENDAR
