BEGIN:VCALENDAR
VERSION:2.0
CALSCALE:GREGORIAN
PRODID:-//Diputació de Barcelona//DibaCMS//EN
BEGIN:VEVENT
UID:3601
DTSTAMP:20260422T174136
DTSTART:20191126T000000
DTEND:20191126T000000
SUMMARY:Dia Internacional per a l'eliminació de la Violència envers les Dones - Taller educatiu: "Contes de Bona Nit per a nenes rebels"
LOCATION:Jesús, 95-115 
METHOD:PUBLISH
X-WR-CALNAME:info.pont@elpont.cat
X-WR-TIMEZONE:Europe/Madrid
DESCRIPTION:A càrrec de Xavi Demelo i de Marcelo Arnal al piano.

URI:https://www.elpont.cat/actualitat/agenda/dia-internacional-per-a-leliminacio-de-la-violencia-envers-les-dones-taller-educatiu-contes-de-bona-nit-per-a-nenes-rebels.html
CLASS:PUBLIC
END:VEVENT
END:VCALENDAR
