BEGIN:VCALENDAR
VERSION:2.0
CALSCALE:GREGORIAN
PRODID:-//Diputació de Barcelona//DibaCMS//EN
BEGIN:VEVENT
UID:3603
DTSTAMP:20260422T090504
DTSTART:20191129T150000
DTEND:20191129T150000
SUMMARY:Dia Internacional per a l'eliminació de la Violència envers les Dones - Taller “Formula la teva sinèrgia amb olis essencials”
LOCATION:Sant Pere Regalat, 72, baixos 08254 El Pont de Vilomara i Rocafort
METHOD:PUBLISH
X-WR-CALNAME:info.pont@elpont.cat
X-WR-TIMEZONE:Europe/Madrid
DESCRIPTION:A càrrec de l’aromaretapeuta Alba Castillo. 

URI:https://www.elpont.cat/actualitat/agenda/dia-internacional-per-a-leliminacio-de-la-violencia-envers-les-dones-taller-formula-la-teva-sinergia-amb-olis-essencials.html
CLASS:PUBLIC
END:VEVENT
END:VCALENDAR
