BEGIN:VCALENDAR
VERSION:2.0
CALSCALE:GREGORIAN
PRODID:-//Diputació de Barcelona//DibaCMS//EN
BEGIN:VEVENT
UID:3605
DTSTAMP:20260422T091629
DTSTART:20191204T150000
DTEND:20191204T150000
SUMMARY:Tertúlia literària sobre la novel·la "A punt d'estrena" amb la presència del seva autora Maria Carme Roca
LOCATION:Sant Pere Regalat, 72, baixos 08254 El Pont de Vilomara i Rocafort
METHOD:PUBLISH
X-WR-CALNAME:info.pont@elpont.cat
X-WR-TIMEZONE:Europe/Madrid
DESCRIPTION:
URI:https://www.elpont.cat/actualitat/agenda/tertulia-literaria-sobre-la-novella-a-punt-destrena-amb-la-presencia-del-seva-autora-maria-carme-roca.html
CLASS:PUBLIC
END:VEVENT
END:VCALENDAR
