BEGIN:VCALENDAR
VERSION:2.0
CALSCALE:GREGORIAN
PRODID:-//Diputació de Barcelona//DibaCMS//EN
BEGIN:VEVENT
UID:3615
DTSTAMP:20260423T015712
DTSTART:20191211T150000
DTEND:20191211T150000
SUMMARY:Taller de pastisseria
LOCATION:Sant Pere Regalat, 72, baixos 08254 El Pont de Vilomara i Rocafort
METHOD:PUBLISH
X-WR-CALNAME:info.pont@elpont.cat
X-WR-TIMEZONE:Europe/Madrid
DESCRIPTION:Taller adreçat al públic jove i adult on aprendrem a elaborar el tradicional tronc de Nadal amb diferents bases i farciments.

URI:https://www.elpont.cat/actualitat/agenda/taller-de-pastisseria.html
CLASS:PUBLIC
END:VEVENT
END:VCALENDAR
